BEGIN:VCALENDAR
VERSION:2.0
PRODID:-//Simply Honey - ECPv6.15.13//NONSGML v1.0//EN
CALSCALE:GREGORIAN
METHOD:PUBLISH
X-ORIGINAL-URL:https://simplyhoney.co
X-WR-CALDESC:Events for Simply Honey
REFRESH-INTERVAL;VALUE=DURATION:PT1H
X-Robots-Tag:noindex
X-PUBLISHED-TTL:PT1H
BEGIN:VTIMEZONE
TZID:UTC
BEGIN:STANDARD
TZOFFSETFROM:+0000
TZOFFSETTO:+0000
TZNAME:UTC
DTSTART:20230101T000000
END:STANDARD
END:VTIMEZONE
BEGIN:VEVENT
DTSTART;TZID=UTC:20240324T100000
DTEND;TZID=UTC:20240324T160000
DTSTAMP:20260423T180544
CREATED:20221229T215807Z
LAST-MODIFIED:20240124T003608Z
UID:578-1711274400-1711296000@simplyhoney.co
SUMMARY:Stockbridge Farmers' Market
DESCRIPTION:
URL:https://simplyhoney.co/event/stockbridge-farmers-market-3/
LOCATION:Stockbridge Market\, Saunders Street\, Edinburgh\, EH3 6TQ\, United Kingdom
CATEGORIES:Market
END:VEVENT
END:VCALENDAR